BEGIN:VCALENDAR
CALSCALE:GREGORIAN
VERSION:2.0
METHOD:PUBLISH 
X-WR-CALNAME:
BEGIN:VEVENT
DTSTART;TZID=Europe/Paris:20260801T123456
DTEND;TZID=Europe/Paris:20260801T133456
SUMMARY:Soirée amicale des pêcheurs
CATEGORIE:Fêtes et Animations
GEO:48.58928681832300;7.51005649566650
LOCATION:rue du Stade\, 67310 Dahlenheim\, France
URL:https://www.fest.fr/e/2458302
UID:2458302-1@fest.fr
END:VEVENT
END:VCALENDAR
