BEGIN:VCALENDAR
CALSCALE:GREGORIAN
VERSION:2.0
METHOD:PUBLISH 
X-WR-CALNAME:
BEGIN:VEVENT
DTSTART;TZID=Europe/Paris:20260514T100000
DTEND;TZID=Europe/Paris:20260514T110000
SUMMARY:Journée Art et Artisanat
CATEGORIE:Expositions, Visites et Découvertes
LOCATION:Salle des fêtes\, Rue Newton Longville ( près de la gendarmerie)\, 76590 Longueville-sur-Scie\, France
URL:https://www.fest.fr/e/2456670
UID:2456670-1@fest.fr
END:VEVENT
END:VCALENDAR
