BEGIN:VCALENDAR
CALSCALE:GREGORIAN
VERSION:2.0
METHOD:PUBLISH 
X-WR-CALNAME:
BEGIN:VEVENT
DTSTART;TZID=Europe/Paris:20260523T213000
DTEND;TZID=Europe/Paris:20260523T223000
SUMMARY:Le goût pour la Chine
CATEGORIE:Expositions, Visites et Découvertes
GEO:43.94705700000000;4.80065800000000
LOCATION:Musée Louis Vouland\, 17 rue Victor Hugo, Vaucluse, Provence-Alpes-Côte d'Azur\, 84000 Avignon\, France
URL:https://www.fest.fr/e/2456534
UID:2456534-1@fest.fr
END:VEVENT
END:VCALENDAR
