BEGIN:VCALENDAR
CALSCALE:GREGORIAN
VERSION:2.0
METHOD:PUBLISH 
X-WR-CALNAME:
BEGIN:VEVENT
DTSTART;TZID=Europe/Paris:20260523T200000
DTEND;TZID=Europe/Paris:20260523T210000
SUMMARY:Nouvel accrochage de la collection Musée Picasso
CATEGORIE:Expositions, Visites et Découvertes
GEO:43.58099100000000;7.12790900000000
LOCATION:Musée Picasso\, Place Mariéjol\, 06600 Antibes\, France
URL:https://www.fest.fr/e/2456507
UID:2456507-1@fest.fr
END:VEVENT
END:VCALENDAR
