BEGIN:VCALENDAR
CALSCALE:GREGORIAN
VERSION:2.0
METHOD:PUBLISH 
X-WR-CALNAME:
BEGIN:VEVENT
DTSTART;TZID=Europe/Paris:20260509T183000
DTEND;TZID=Europe/Paris:20260509T193000
SUMMARY:Chantez ensemble autour d'un piano
CATEGORIE:Concerts et Musique
GEO:47.45836860000000;2.64537970000000
LOCATION:2 Route Concressault\, 18260 Vailly-sur-Sauldre\, France
URL:https://www.fest.fr/e/2454913
UID:2454913-1@fest.fr
END:VEVENT
END:VCALENDAR
