BEGIN:VCALENDAR
CALSCALE:GREGORIAN
VERSION:2.0
METHOD:PUBLISH 
X-WR-CALNAME:
BEGIN:VEVENT
DTSTART;TZID=Europe/Paris:20260612T123456
DTEND;TZID=Europe/Paris:20260612T133456
SUMMARY:Rencontre auteur avec Amédée Albi
CATEGORIE:Littérature
GEO:44.23097488000000;2.04116627000000
LOCATION:7 route d'occitanie\, 12270 La Fouillade\, France
URL:https://www.fest.fr/e/2453860
UID:2453860-1@fest.fr
END:VEVENT
END:VCALENDAR
