BEGIN:VCALENDAR
CALSCALE:GREGORIAN
VERSION:2.0
METHOD:PUBLISH 
X-WR-CALNAME:
BEGIN:VEVENT
DTSTART;TZID=Europe/Paris:20260425T123456
DTEND;TZID=Europe/Paris:20260425T133456
SUMMARY:Fête de la Librairie Indépendante
CATEGORIE:Littérature
GEO:49.28498200000000;0.18276600000000
LOCATION:7 place Vauquelin
Librairie La Distillerie\, 14130 Pont-l'Évêque\, France
URL:https://www.fest.fr/e/2453816
UID:2453816-1@fest.fr
END:VEVENT
END:VCALENDAR
