BEGIN:VCALENDAR
CALSCALE:GREGORIAN
VERSION:2.0
METHOD:PUBLISH 
X-WR-CALNAME:
BEGIN:VEVENT
DTSTART;TZID=Europe/Paris:20260502T110000
DTEND;TZID=Europe/Paris:20260502T120000
SUMMARY:Spectacle Musical Terra Currumim
CATEGORIE:Spectacles et Théâtre
GEO:43.30280800000000;-0.37271020000000
LOCATION:19 Rue Bourbaki
Espace Dantza\, 64000 Pau\, France
URL:https://www.fest.fr/e/2453646
UID:2453646-1@fest.fr
END:VEVENT
END:VCALENDAR
