BEGIN:VCALENDAR
CALSCALE:GREGORIAN
VERSION:2.0
METHOD:PUBLISH 
X-WR-CALNAME:
BEGIN:VEVENT
DTSTART;TZID=Europe/Paris:20260523T190000
DTEND;TZID=Europe/Paris:20260523T200000
SUMMARY:Le papyrus P. Grec 31-32
CATEGORIE:Conférences, Forums et Débats
GEO:48.58697800000000;7.75588100000000
LOCATION:Bibliothèque nationale et universitaire\, 6 place de la République  strasbourg\, 67000 Strasbourg\, France
URL:https://www.fest.fr/e/2453440
UID:2453440-1@fest.fr
END:VEVENT
END:VCALENDAR
