BEGIN:VCALENDAR
CALSCALE:GREGORIAN
VERSION:2.0
METHOD:PUBLISH 
X-WR-CALNAME:
BEGIN:VEVENT
DTSTART;TZID=Europe/Paris:20260619T190000
DTEND;TZID=Europe/Paris:20260619T200000
SUMMARY:Ky-Mani Marley - Le Mans
CATEGORIE:Concerts et musique
GEO:47.95671850000000;0.20352870000000
LOCATION:parc des expositions\, 72000 Le Mans\, France
URL:https://www.fest.fr/e/2453205
UID:2453205-1@fest.fr
END:VEVENT
END:VCALENDAR
