BEGIN:VCALENDAR
CALSCALE:GREGORIAN
VERSION:2.0
METHOD:PUBLISH 
X-WR-CALNAME:
BEGIN:VEVENT
DTSTART;TZID=Europe/Paris:20260612T210000
DTEND;TZID=Europe/Paris:20260612T220000
SUMMARY:Soirée bal trad
CATEGORIE:Bals et Thés Dansants
LOCATION:Salle de l'Amicale Laïque\, Impasse du stade\, 85370 Le Langon\, France
URL:https://www.fest.fr/e/2452970
UID:2452970-1@fest.fr
END:VEVENT
END:VCALENDAR
