BEGIN:VCALENDAR
CALSCALE:GREGORIAN
VERSION:2.0
METHOD:PUBLISH 
X-WR-CALNAME:
BEGIN:VEVENT
DTSTART;TZID=Europe/Paris:20260529T180000
DTEND;TZID=Europe/Paris:20260529T190000
SUMMARY:Taingy dans la rue
CATEGORIE:Spectacles et Théâtre
GEO:47.61580370250052;3.40465565401460
LOCATION:Village\, 4 Place de Verdun TAINGY\, 89560 Taingy\, France
URL:https://www.fest.fr/e/2452955
UID:2452955-1@fest.fr
END:VEVENT
BEGIN:VEVENT
DTSTART;TZID=Europe/Paris:20260530T140000
DTEND;TZID=Europe/Paris:20260530T150000
SUMMARY:Taingy dans la rue
CATEGORIE:Spectacles et Théâtre
GEO:47.61580370250052;3.40465565401460
LOCATION:Village\, 4 Place de Verdun TAINGY\, 89560 Taingy\, France
URL:https://www.fest.fr/e/2452955
UID:2452955-2@fest.fr
END:VEVENT
END:VCALENDAR
