BEGIN:VCALENDAR
CALSCALE:GREGORIAN
VERSION:2.0
METHOD:PUBLISH 
X-WR-CALNAME:
BEGIN:VEVENT
DTSTART;TZID=Europe/Paris:20260919T083000
DTEND;TZID=Europe/Paris:20260919T093000
SUMMARY:Visite du musée de la frontière
CATEGORIE:Expositions, Visites et Découvertes
GEO:45.19323700000000;6.65716100000000
LOCATION:Muséobar (musée de la frontière)\, 42 rue de la République, Savoie, Auvergne-Rhône-Alpes\, 73500 Modane\, France
URL:https://www.fest.fr/e/2452942
UID:2452942-1@fest.fr
END:VEVENT
BEGIN:VEVENT
DTSTART;TZID=Europe/Paris:20260919T143000
DTEND;TZID=Europe/Paris:20260919T153000
SUMMARY:Visite du musée de la frontière
CATEGORIE:Expositions, Visites et Découvertes
GEO:45.19323700000000;6.65716100000000
LOCATION:Muséobar (musée de la frontière)\, 42 rue de la République, Savoie, Auvergne-Rhône-Alpes\, 73500 Modane\, France
URL:https://www.fest.fr/e/2452942
UID:2452942-2@fest.fr
END:VEVENT
BEGIN:VEVENT
DTSTART;TZID=Europe/Paris:20260920T143000
DTEND;TZID=Europe/Paris:20260920T153000
SUMMARY:Visite du musée de la frontière
CATEGORIE:Expositions, Visites et Découvertes
GEO:45.19323700000000;6.65716100000000
LOCATION:Muséobar (musée de la frontière)\, 42 rue de la République, Savoie, Auvergne-Rhône-Alpes\, 73500 Modane\, France
URL:https://www.fest.fr/e/2452942
UID:2452942-3@fest.fr
END:VEVENT
END:VCALENDAR
