BEGIN:VCALENDAR
CALSCALE:GREGORIAN
VERSION:2.0
METHOD:PUBLISH 
X-WR-CALNAME:
BEGIN:VEVENT
DTSTART;TZID=Europe/Paris:20260906T140000
DTEND;TZID=Europe/Paris:20260906T150000
SUMMARY:Sortie botanique ENS
CATEGORIE:Randonnées et balades
GEO:47.04026300000000;6.27481700000000
LOCATION:40 Rue de Besançon
Parking de l'église\, 25920 Mouthier-Haute-Pierre\, France
URL:https://www.fest.fr/e/2452753
UID:2452753-1@fest.fr
END:VEVENT
END:VCALENDAR
