BEGIN:VCALENDAR
CALSCALE:GREGORIAN
VERSION:2.0
METHOD:PUBLISH 
X-WR-CALNAME:
BEGIN:VEVENT
DTSTART;TZID=Europe/Paris:20260605T190000
DTEND;TZID=Europe/Paris:20260605T200000
SUMMARY:Soirée Clubbing du Nautilus
CATEGORIE:Clubbing et soirées DJ
GEO:42.69006900000000;2.89360600000000
LOCATION:Le Nautilus\, 20 rue jules verne\, 66000 Perpignan\, France
URL:https://www.fest.fr/e/2452425
UID:2452425-1@fest.fr
END:VEVENT
END:VCALENDAR
