BEGIN:VCALENDAR
CALSCALE:GREGORIAN
VERSION:2.0
METHOD:PUBLISH 
X-WR-CALNAME:
BEGIN:VEVENT
DTSTART;TZID=Europe/Paris:20260501T160000
DTEND;TZID=Europe/Paris:20260501T170000
SUMMARY:Cirque Franco Italien
CATEGORIE:Cirques
GEO:48.19235330000000;-4.07847870000000
LOCATION:Rocade de Quimill\, 29150 Châteaulin\, France
URL:https://www.fest.fr/e/2452326
UID:2452326-1@fest.fr
END:VEVENT
BEGIN:VEVENT
DTSTART;TZID=Europe/Paris:20260502T160000
DTEND;TZID=Europe/Paris:20260502T170000
SUMMARY:Cirque Franco Italien
CATEGORIE:Cirques
GEO:48.19235330000000;-4.07847870000000
LOCATION:Rocade de Quimill\, 29150 Châteaulin\, France
URL:https://www.fest.fr/e/2452326
UID:2452326-2@fest.fr
END:VEVENT
BEGIN:VEVENT
DTSTART;TZID=Europe/Paris:20260503T103000
DTEND;TZID=Europe/Paris:20260503T113000
SUMMARY:Cirque Franco Italien
CATEGORIE:Cirques
GEO:48.19235330000000;-4.07847870000000
LOCATION:Rocade de Quimill\, 29150 Châteaulin\, France
URL:https://www.fest.fr/e/2452326
UID:2452326-3@fest.fr
END:VEVENT
END:VCALENDAR
