BEGIN:VCALENDAR
CALSCALE:GREGORIAN
VERSION:2.0
METHOD:PUBLISH 
X-WR-CALNAME:
BEGIN:VEVENT
DTSTART;TZID=Europe/Paris:20260425T140000
DTEND;TZID=Europe/Paris:20260425T150000
SUMMARY:ÉCHO'RANDO BIODIVERSITÉ
CATEGORIE:Randonnées et balades
GEO:43.28547130000000;1.26924570000000
LOCATION:151 Breil\, 31390 Lacaugne\, France
URL:https://www.fest.fr/e/2452189
UID:2452189-1@fest.fr
END:VEVENT
END:VCALENDAR
