BEGIN:VCALENDAR
CALSCALE:GREGORIAN
VERSION:2.0
METHOD:PUBLISH 
X-WR-CALNAME:
BEGIN:VEVENT
DTSTART;TZID=Europe/Paris:20260530T123456
DTEND;TZID=Europe/Paris:20260530T133456
SUMMARY:TOUS À VÉLO - MONTBLANC
CATEGORIE:Randonnées et balades
GEO:43.39539900000000;3.36554600000000
LOCATION:place Edouard Barthe\, 34290 Montblanc\, France
URL:https://www.fest.fr/e/2452176
UID:2452176-1@fest.fr
END:VEVENT
END:VCALENDAR
