BEGIN:VCALENDAR
CALSCALE:GREGORIAN
VERSION:2.0
METHOD:PUBLISH 
X-WR-CALNAME:
BEGIN:VEVENT
DTSTART;TZID=Europe/Paris:20260503T083000
DTEND;TZID=Europe/Paris:20260503T093000
SUMMARY:Marché aux Fleurs
CATEGORIE:Marchés, Foires et Salons
GEO:48.87643800000000;4.46311690000000
LOCATION:Centre ville\, 51240 La Chaussée-sur-Marne\, France
URL:https://www.fest.fr/e/2451879
UID:2451879-1@fest.fr
END:VEVENT
END:VCALENDAR
