BEGIN:VCALENDAR
CALSCALE:GREGORIAN
VERSION:2.0
METHOD:PUBLISH 
X-WR-CALNAME:
BEGIN:VEVENT
DTSTART;TZID=Europe/Paris:20260522T190000
DTEND;TZID=Europe/Paris:20260522T200000
SUMMARY:WASCO ! de Lisbeth Gruwez & Maarten Van Cauwenberghe
CATEGORIE:Spectacles et Théâtre
GEO:49.25474450000000;4.02189940000000
LOCATION:2 Boulevard du Général Leclerc
Manège, scène nationale - Reims\, 51100 Reims\, France
URL:https://www.fest.fr/e/2451871
UID:2451871-1@fest.fr
END:VEVENT
BEGIN:VEVENT
DTSTART;TZID=Europe/Paris:20260523T150000
DTEND;TZID=Europe/Paris:20260523T160000
SUMMARY:WASCO ! de Lisbeth Gruwez & Maarten Van Cauwenberghe
CATEGORIE:Spectacles et Théâtre
GEO:49.25474450000000;4.02189940000000
LOCATION:2 Boulevard du Général Leclerc
Manège, scène nationale - Reims\, 51100 Reims\, France
URL:https://www.fest.fr/e/2451871
UID:2451871-2@fest.fr
END:VEVENT
END:VCALENDAR
