BEGIN:VCALENDAR
CALSCALE:GREGORIAN
VERSION:2.0
METHOD:PUBLISH 
X-WR-CALNAME:
BEGIN:VEVENT
DTSTART;TZID=Europe/Paris:20260520T150000
DTEND;TZID=Europe/Paris:20260520T160000
SUMMARY:Atelier enfant/parent - Création d'une poterie
CATEGORIE:Stages, Ateliers et Initiations
GEO:46.10930000000000;1.37063000000000
LOCATION:2 Rue Louis Seyvaud
Bureau d'Information Touristique\, 87250 Bessines-sur-Gartempe\, France
URL:https://www.fest.fr/e/2451795
UID:2451795-1@fest.fr
END:VEVENT
END:VCALENDAR
