BEGIN:VCALENDAR
CALSCALE:GREGORIAN
VERSION:2.0
METHOD:PUBLISH 
X-WR-CALNAME:
BEGIN:VEVENT
DTSTART;TZID=Europe/Paris:20260726T140000
DTEND;TZID=Europe/Paris:20260726T150000
SUMMARY:L'été en famille
CATEGORIE:Fêtes et Animations
GEO:46.09693900000000;1.47287600000000
LOCATION:Lac de Pont-à-l'Age\, 87370 Saint-Sulpice-Laurière\, France
URL:https://www.fest.fr/e/2451672
UID:2451672-1@fest.fr
END:VEVENT
END:VCALENDAR
