BEGIN:VCALENDAR
CALSCALE:GREGORIAN
VERSION:2.0
METHOD:PUBLISH 
X-WR-CALNAME:
BEGIN:VEVENT
DTSTART;TZID=Europe/Paris:20260425T100000
DTEND;TZID=Europe/Paris:20260425T110000
SUMMARY:Les 11 ans du Point H^UT
CATEGORIE:Fêtes et Animations
GEO:47.38216910000000;0.72435450000000
LOCATION:20 Rue des Grands Mortiers\, 37700 Saint-Pierre-des-Corps\, France
URL:https://www.fest.fr/e/2451648
UID:2451648-1@fest.fr
END:VEVENT
END:VCALENDAR
