BEGIN:VCALENDAR
CALSCALE:GREGORIAN
VERSION:2.0
METHOD:PUBLISH 
X-WR-CALNAME:
BEGIN:VEVENT
DTSTART;TZID=Europe/Paris:20260614T123456
DTEND;TZID=Europe/Paris:20260614T133456
SUMMARY:Escapade sur le fleuve Charente - 14 juin
CATEGORIE:Randonnées et balades
GEO:45.71562300000000;-0.56008200000000
LOCATION:Arrivée à Chaniers
Départ de Chérac ou Rouffiac\, 17610 Chaniers\, France
URL:https://www.fest.fr/e/2451604
UID:2451604-1@fest.fr
END:VEVENT
END:VCALENDAR
