BEGIN:VCALENDAR
CALSCALE:GREGORIAN
VERSION:2.0
METHOD:PUBLISH 
X-WR-CALNAME:
BEGIN:VEVENT
DTSTART;TZID=Europe/Paris:20260502T143000
DTEND;TZID=Europe/Paris:20260502T153000
SUMMARY:Animation - Printemps du Japon
CATEGORIE:Expositions, Visites et Découvertes
GEO:46.15194300000000;-1.15563300000000
LOCATION:22 rue Cardinal
Les Cabanes urbaines\, 17000 La Rochelle\, France
URL:https://www.fest.fr/e/2451601
UID:2451601-1@fest.fr
END:VEVENT
END:VCALENDAR
