BEGIN:VCALENDAR
CALSCALE:GREGORIAN
VERSION:2.0
METHOD:PUBLISH 
X-WR-CALNAME:
BEGIN:VEVENT
DTSTART;TZID=Europe/Paris:20260527T100000
DTEND;TZID=Europe/Paris:20260527T110000
SUMMARY:80 ans du Secours Catholique Caritas France
CATEGORIE:Social et solidaire
GEO:44.93067000000000;4.89411500000000
LOCATION:Fontaine Monumentale\, 26000 Valence\, France
URL:https://www.fest.fr/e/2451523
UID:2451523-1@fest.fr
END:VEVENT
END:VCALENDAR
