BEGIN:VCALENDAR
CALSCALE:GREGORIAN
VERSION:2.0
METHOD:PUBLISH 
X-WR-CALNAME:
BEGIN:VEVENT
DTSTART;TZID=Europe/Paris:20260523T180000
DTEND;TZID=Europe/Paris:20260523T190000
SUMMARY:Exposition "Merveilles et curiosités du Palais Lascaris".
CATEGORIE:Expositions, Visites et Découvertes
GEO:43.69768800000000;7.27721400000000
LOCATION:Musée du Palais Lascaris\, 15 Rue Droite\, 06300 Nice\, France
URL:https://www.fest.fr/e/2451108
UID:2451108-1@fest.fr
END:VEVENT
END:VCALENDAR
