BEGIN:VCALENDAR
CALSCALE:GREGORIAN
VERSION:2.0
METHOD:PUBLISH 
X-WR-CALNAME:
BEGIN:VEVENT
DTSTART;TZID=Europe/Paris:20260424T210000
DTEND;TZID=Europe/Paris:20260424T220000
SUMMARY:Grand Tetras Orchestra en concert chez Quetsch
CATEGORIE:Concerts et Musique
GEO:47.62329900000000;7.23547200000000
LOCATION:1 boulevard clemenceau\, 68130 Altkirch\, France
URL:https://www.fest.fr/e/2451091
UID:2451091-1@fest.fr
END:VEVENT
END:VCALENDAR
