BEGIN:VCALENDAR
CALSCALE:GREGORIAN
VERSION:2.0
METHOD:PUBLISH 
X-WR-CALNAME:
BEGIN:VEVENT
DTSTART;TZID=Europe/Paris:20260717T130000
DTEND;TZID=Europe/Paris:20260717T140000
SUMMARY:Sortie algues
CATEGORIE:Randonnées et balades
GEO:48.52322380000000;-4.76125280000000
LOCATION:Port d'Argenton
RDV Bateau Le No Name\, 29840 Landunvez\, France
URL:https://www.fest.fr/e/2450723
UID:2450723-1@fest.fr
END:VEVENT
END:VCALENDAR
