BEGIN:VCALENDAR
CALSCALE:GREGORIAN
VERSION:2.0
METHOD:PUBLISH 
X-WR-CALNAME:
BEGIN:VEVENT
DTSTART;TZID=Europe/Paris:20260430T103000
DTEND;TZID=Europe/Paris:20260430T113000
SUMMARY:ATELIER TOUT-PETITS, LES BÉBÉS AU MUSÉE !
CATEGORIE:Stages, Ateliers et Initiations
GEO:43.10661000000000;0.72280000000000
LOCATION:35 Boulevard Jean Bepmale
MUSÉE ARTS & FIGURES DES PYRÉNÉES CENTRALES\, 31800 Saint-Gaudens\, France
URL:https://www.fest.fr/e/2450618
UID:2450618-1@fest.fr
END:VEVENT
END:VCALENDAR
