BEGIN:VCALENDAR
CALSCALE:GREGORIAN
VERSION:2.0
METHOD:PUBLISH 
X-WR-CALNAME:
BEGIN:VEVENT
DTSTART;TZID=Europe/Paris:20260627T200000
DTEND;TZID=Europe/Paris:20260627T210000
SUMMARY:Représentations théâtrales
CATEGORIE:Spectacles et Théâtre
GEO:49.51802390000000;0.53882000000000
LOCATION:Rue Victor Hugo\, 76170 Lillebonne\, France
URL:https://www.fest.fr/e/2450376
UID:2450376-1@fest.fr
END:VEVENT
END:VCALENDAR
