BEGIN:VCALENDAR
CALSCALE:GREGORIAN
VERSION:2.0
METHOD:PUBLISH 
X-WR-CALNAME:
BEGIN:VEVENT
DTSTART;TZID=Europe/Paris:20260516T110000
DTEND;TZID=Europe/Paris:20260516T120000
SUMMARY:Histoire(s) autour du feu
CATEGORIE:Conférences, Forums et Débats
GEO:43.61017800000000;1.45584000000000
LOCATION:Médiathèque José Cabanis\, 1 All Jacques Chaban-Delmas, 31500\, 31506 Toulouse\, France
URL:https://www.fest.fr/e/2450194
UID:2450194-1@fest.fr
END:VEVENT
END:VCALENDAR
