BEGIN:VCALENDAR
CALSCALE:GREGORIAN
VERSION:2.0
METHOD:PUBLISH 
X-WR-CALNAME:
BEGIN:VEVENT
DTSTART;TZID=Europe/Paris:20260430T180000
DTEND;TZID=Europe/Paris:20260430T190000
SUMMARY:Concert de Nicole Johänntgen et le film Sun Ra
CATEGORIE:Concerts et Musique
GEO:43.30310940000000;-0.37011800000000
LOCATION:14 Place du Foirail\, 64000 Pau\, France
URL:https://www.fest.fr/e/2449939
UID:2449939-1@fest.fr
END:VEVENT
END:VCALENDAR
