BEGIN:VCALENDAR
CALSCALE:GREGORIAN
VERSION:2.0
METHOD:PUBLISH 
X-WR-CALNAME:
BEGIN:VEVENT
DTSTART;TZID=Europe/Paris:20260517T090000
DTEND;TZID=Europe/Paris:20260517T100000
SUMMARY:Moulin en fête
CATEGORIE:Fêtes et Animations
GEO:44.65342410000000;-0.11389130000000
LOCATION:2 Lieu-dit Pinquet
Moulin de Pinquet\, 33540 Saint-Félix-de-Foncaude\, France
URL:https://www.fest.fr/e/2449814
UID:2449814-1@fest.fr
END:VEVENT
END:VCALENDAR
