BEGIN:VCALENDAR
CALSCALE:GREGORIAN
VERSION:2.0
METHOD:PUBLISH 
X-WR-CALNAME:
BEGIN:VEVENT
DTSTART;TZID=Europe/Paris:20260419T150000
DTEND;TZID=Europe/Paris:20260419T160000
SUMMARY:Visite découverte de la collection égyptienne
CATEGORIE:Expositions, Visites et Découvertes
GEO:48.07116890000000;1.32813190000000
LOCATION:Musée des Beaux-Arts et d'Histoire Naturelle\, 28200 Châteaudun\, France
URL:https://www.fest.fr/e/2449731
UID:2449731-1@fest.fr
END:VEVENT
END:VCALENDAR
