BEGIN:VCALENDAR
CALSCALE:GREGORIAN
VERSION:2.0
METHOD:PUBLISH 
X-WR-CALNAME:
BEGIN:VEVENT
DTSTART;TZID=Europe/Paris:20260517T070000
DTEND;TZID=Europe/Paris:20260517T080000
SUMMARY:vide grenier : Charmes en Folie
CATEGORIE:Brocantes, Bourses et Vide-Greniers
GEO:48.37417600000000;6.28129400000000
LOCATION:Maison du Temps Libre
rue de Grignon\, 88130 Charmes\, France
URL:https://www.fest.fr/e/2449492
UID:2449492-1@fest.fr
END:VEVENT
END:VCALENDAR
