BEGIN:VCALENDAR
CALSCALE:GREGORIAN
VERSION:2.0
METHOD:PUBLISH 
X-WR-CALNAME:
BEGIN:VEVENT
DTSTART;TZID=Europe/Paris:20260425T140000
DTEND;TZID=Europe/Paris:20260425T150000
SUMMARY:Exposition : les Juifs de France dans la SHOA
CATEGORIE:Expositions, Visites et Découvertes
GEO:49.40094040000000;6.16260080000000
LOCATION:8 Rue de la gendarmerie\, 57330 Hettange-Grande\, France
URL:https://www.fest.fr/e/2449463
UID:2449463-1@fest.fr
END:VEVENT
BEGIN:VEVENT
DTSTART;TZID=Europe/Paris:20260426T100000
DTEND;TZID=Europe/Paris:20260426T110000
SUMMARY:Exposition : les Juifs de France dans la SHOA
CATEGORIE:Expositions, Visites et Découvertes
GEO:49.40094040000000;6.16260080000000
LOCATION:8 Rue de la gendarmerie\, 57330 Hettange-Grande\, France
URL:https://www.fest.fr/e/2449463
UID:2449463-2@fest.fr
END:VEVENT
BEGIN:VEVENT
DTSTART;TZID=Europe/Paris:20260426T140000
DTEND;TZID=Europe/Paris:20260426T150000
SUMMARY:Exposition : les Juifs de France dans la SHOA
CATEGORIE:Expositions, Visites et Découvertes
GEO:49.40094040000000;6.16260080000000
LOCATION:8 Rue de la gendarmerie\, 57330 Hettange-Grande\, France
URL:https://www.fest.fr/e/2449463
UID:2449463-3@fest.fr
END:VEVENT
END:VCALENDAR
