BEGIN:VCALENDAR
CALSCALE:GREGORIAN
VERSION:2.0
METHOD:PUBLISH 
X-WR-CALNAME:
BEGIN:VEVENT
DTSTART;TZID=Europe/Paris:20260519T200000
DTEND;TZID=Europe/Paris:20260519T210000
SUMMARY:Le souffle local rencontre l’excellence américaine
CATEGORIE:Concerts et Musique
LOCATION:Église Sainte Jeanne d’Arc\, 76 rue Roger Salengro\, 37000 Tours\, France
URL:https://www.fest.fr/e/2449119
UID:2449119-1@fest.fr
END:VEVENT
END:VCALENDAR
