BEGIN:VCALENDAR
CALSCALE:GREGORIAN
VERSION:2.0
METHOD:PUBLISH 
X-WR-CALNAME:
BEGIN:VEVENT
DTSTART;TZID=Europe/Paris:20260418T160000
DTEND;TZID=Europe/Paris:20260418T170000
SUMMARY:Atelier 3 cosmétiques
CATEGORIE:Stages, Ateliers et Initiations
GEO:47.31327700000000;5.50880900000000
LOCATION:38  Rue de Pesmes
Les savons de Val\, 70140 Broye-Aubigney-Montseugny\, France
URL:https://www.fest.fr/e/2449022
UID:2449022-1@fest.fr
END:VEVENT
END:VCALENDAR
