BEGIN:VCALENDAR
CALSCALE:GREGORIAN
VERSION:2.0
METHOD:PUBLISH 
X-WR-CALNAME:
BEGIN:VEVENT
DTSTART;TZID=Europe/Paris:20260501T203000
DTEND;TZID=Europe/Paris:20260501T213000
SUMMARY:Film - Mauvaise pioche
CATEGORIE:Spectacles et Théâtre
GEO:48.12606600000000;7.16332860000000
LOCATION:23 Rue Charles De Gaulle\, 68370 Orbey\, France
URL:https://www.fest.fr/e/2448866
UID:2448866-1@fest.fr
END:VEVENT
END:VCALENDAR
