BEGIN:VCALENDAR
CALSCALE:GREGORIAN
VERSION:2.0
METHOD:PUBLISH 
X-WR-CALNAME:
BEGIN:VEVENT
DTSTART;TZID=Europe/Paris:20260424T190000
DTEND;TZID=Europe/Paris:20260424T200000
SUMMARY:Dégustation vins à l'aveugle
CATEGORIE:Stages, Ateliers et Initiations
GEO:47.93196000000000;-3.69805000000000
LOCATION:3 Rue Saint-Lucas
Librairie Le Grand Bain\, 29380 Bannalec\, France
URL:https://www.fest.fr/e/2448591
UID:2448591-1@fest.fr
END:VEVENT
END:VCALENDAR
