BEGIN:VCALENDAR
CALSCALE:GREGORIAN
VERSION:2.0
METHOD:PUBLISH 
X-WR-CALNAME:
BEGIN:VEVENT
DTSTART;TZID=Europe/Paris:20260512T123456
DTEND;TZID=Europe/Paris:20260512T133456
SUMMARY:Médiathèque - Exposition Les avant-scènes
CATEGORIE:Expositions, Visites et Découvertes
GEO:48.63486160000000;-2.10570730000000
LOCATION:75 Boulevard des Cap-Horniers
Médiathèque\, 35800 Saint-Lunaire\, France
URL:https://www.fest.fr/e/2448431
UID:2448431-1@fest.fr
END:VEVENT
END:VCALENDAR
