BEGIN:VCALENDAR
CALSCALE:GREGORIAN
VERSION:2.0
METHOD:PUBLISH 
X-WR-CALNAME:
BEGIN:VEVENT
DTSTART;TZID=Europe/Paris:20260606T100000
DTEND;TZID=Europe/Paris:20260606T110000
SUMMARY:Atelier découverte de Breathwork
CATEGORIE:Stages, Ateliers et Initiations
GEO:43.28385180000000;0.49904070000000
LOCATION:4 Chemin du Vignemale
CASTELNAU-MAGNOAC
Hameau de Nouste temps\, 65230 Castelnau-Magnoac\, France
URL:https://www.fest.fr/e/2448398
UID:2448398-1@fest.fr
END:VEVENT
END:VCALENDAR
