BEGIN:VCALENDAR
CALSCALE:GREGORIAN
VERSION:2.0
METHOD:PUBLISH 
X-WR-CALNAME:
BEGIN:VEVENT
DTSTART;TZID=Europe/Paris:20260523T123456
DTEND;TZID=Europe/Paris:20260523T133456
SUMMARY:Chorale "Si ça vous chante"
CATEGORIE:Concerts et Musique
GEO:44.29168688000000;2.04967796000000
LOCATION:21 route de La Fouillade\, 12200 Sanvensa\, France
URL:https://www.fest.fr/e/2448323
UID:2448323-1@fest.fr
END:VEVENT
END:VCALENDAR
