BEGIN:VCALENDAR
CALSCALE:GREGORIAN
VERSION:2.0
METHOD:PUBLISH 
X-WR-CALNAME:
BEGIN:VEVENT
DTSTART;TZID=Europe/Paris:20260419T100000
DTEND;TZID=Europe/Paris:20260419T110000
SUMMARY:30ème Randonnée Pédestre
CATEGORIE:Randonnées et balades
GEO:49.05136760000000;4.00068340000000
LOCATION:Espace culturel Jean-Philippe Collard
Maison de Mareuil\, 51160 Aÿ-Champagne\, France
URL:https://www.fest.fr/e/2448011
UID:2448011-1@fest.fr
END:VEVENT
END:VCALENDAR
