BEGIN:VCALENDAR
CALSCALE:GREGORIAN
VERSION:2.0
METHOD:PUBLISH 
X-WR-CALNAME:
BEGIN:VEVENT
DTSTART;TZID=Europe/Paris:20260620T100000
DTEND;TZID=Europe/Paris:20260620T110000
SUMMARY:Atelier : Initiation au modelage
CATEGORIE:Stages, Ateliers et Initiations
GEO:43.49109000000000;-0.77731000000000
LOCATION:67 rue Saint-Pierre
Atelier Cappable\, 64300 Orthez\, France
URL:https://www.fest.fr/e/2447806
UID:2447806-1@fest.fr
END:VEVENT
END:VCALENDAR
