BEGIN:VCALENDAR
CALSCALE:GREGORIAN
VERSION:2.0
METHOD:PUBLISH 
X-WR-CALNAME:
BEGIN:VEVENT
DTSTART;TZID=Europe/Paris:20270109T200000
DTEND;TZID=Europe/Paris:20270109T210000
SUMMARY:La Môme Piaf - Anne Carrère
CATEGORIE:Concerts et musique
GEO:46.65965305144100;0.36365156530000
LOCATION:Palais des Congrès du Futuroscope\, 1 avenue futuroscope - teleport n°1\, 86360 Chasseneuil-du-Poitou\, France
URL:https://www.fest.fr/e/2447803
UID:2447803-1@fest.fr
END:VEVENT
END:VCALENDAR
