BEGIN:VCALENDAR
CALSCALE:GREGORIAN
VERSION:2.0
METHOD:PUBLISH 
X-WR-CALNAME:
BEGIN:VEVENT
DTSTART;TZID=Europe/Paris:20260424T203000
DTEND;TZID=Europe/Paris:20260424T213000
SUMMARY:Bal Traditionnel avec Pèth
CATEGORIE:Bals et Thés Dansants
GEO:44.41324100000000;0.88524600000000
LOCATION:70 Route de Partalou
La Machine\, 47140 Trémons\, France
URL:https://www.fest.fr/e/2447744
UID:2447744-1@fest.fr
END:VEVENT
END:VCALENDAR
