BEGIN:VCALENDAR
CALSCALE:GREGORIAN
VERSION:2.0
METHOD:PUBLISH 
X-WR-CALNAME:
BEGIN:VEVENT
DTSTART;TZID=Europe/Paris:20260604T093000
DTEND;TZID=Europe/Paris:20260604T103000
SUMMARY:Eveil Musical (COMPLET)
CATEGORIE:Stages, Ateliers et Initiations
GEO:48.14665100000000;-1.77315100000000
LOCATION:Totems\, 12 Chemin de la Métairie -\, 35740 Pacé\, France
URL:https://www.fest.fr/e/2447452
UID:2447452-1@fest.fr
END:VEVENT
BEGIN:VEVENT
DTSTART;TZID=Europe/Paris:20260604T103000
DTEND;TZID=Europe/Paris:20260604T113000
SUMMARY:Eveil Musical (COMPLET)
CATEGORIE:Stages, Ateliers et Initiations
GEO:48.14665100000000;-1.77315100000000
LOCATION:Totems\, 12 Chemin de la Métairie -\, 35740 Pacé\, France
URL:https://www.fest.fr/e/2447452
UID:2447452-2@fest.fr
END:VEVENT
END:VCALENDAR
