BEGIN:VCALENDAR
CALSCALE:GREGORIAN
VERSION:2.0
METHOD:PUBLISH 
X-WR-CALNAME:
BEGIN:VEVENT
DTSTART;TZID=Europe/Paris:20260820T070000
DTEND;TZID=Europe/Paris:20260820T080000
SUMMARY:Journée du pain à Espédaillac
CATEGORIE:Expositions, Visites et Découvertes
GEO:44.63944790000000;1.77064900000000
LOCATION:le sullé\, 46320 Espédaillac\, France
URL:https://www.fest.fr/e/2447371
UID:2447371-1@fest.fr
END:VEVENT
END:VCALENDAR
